BEGIN:VCALENDAR
X-WR-CALNAME:Personnalisez votre Apple Watch(Français)
PRODID:Concierge
VERSION:2.0
CALSCALE:GREGORIAN
METHOD:PUBLISH
TZID:Europe/Brussels
BEGIN:VEVENT
DTSTAMP:20221031T113040Z
DTSTART;TZID=Europe/Brussels:20221104T101500
DTEND;TZID=Europe/Brussels:20221104T104500
SUMMARY:Personnalisez votre Apple Watch(Français)
UID:http://www.apple.com/befr/retail/brussels1667553300000
URL:http://www.apple.com/befr/retail/brussels
LOCATION:Apple Brussels\nAvenue de la Toison d’Or 26/28\, Bruxelles\, Rég
 ion de Bruxelles-Capitale\, 1050
GEO:50.83666;4.3582
X-APPLE-STRUCTURED-LOCATION;VALUE=URI;X-TITLE="Apple Brussels\nAvenue de 
 la Toison d’Or 26/28, Bruxelles, Région de Bruxelles-Capitale, 1050":geo
 :50.83666,4.3582
DESCRIPTION:
END:VEVENT
END:VCALENDAR
