BEGIN:VCALENDAR
X-WR-CALNAME:Mit dem Apple Pencil auf dem iPad zeichnen(Global.Language.d
 e-at)
PRODID:Concierge
VERSION:2.0
CALSCALE:GREGORIAN
METHOD:PUBLISH
TZID:Europe/Vienna
BEGIN:VEVENT
DTSTAMP:20230920T210116Z
DTSTART;TZID=Europe/Vienna:20230921T101500
DTEND;TZID=Europe/Vienna:20230921T111500
SUMMARY:Mit dem Apple Pencil auf dem iPad zeichnen(Global.Language.de-at)
 
UID:http://www.apple.com/at/retail/kaerntnerstrasse/1695284100000
URL:http://www.apple.com/at/retail/kaerntnerstrasse/
LOCATION:Apple Kärntner Straße\nKärntner Straße 11\, Wien\, Vienna\, 1010
 
GEO:48.206908;16.371731
X-APPLE-STRUCTURED-LOCATION;VALUE=URI;X-TITLE="Apple Kärntner Straße\nKär
 ntner Straße 11, Wien, Vienna, 1010":geo:48.206908,16.371731
DESCRIPTION:
END:VEVENT
END:VCALENDAR
