BEGIN:VCALENDAR
X-WR-CALNAME:Mit dem iPhone Fotos machen(Global.Language.de-at)
PRODID:Concierge
VERSION:2.0
CALSCALE:GREGORIAN
METHOD:PUBLISH
TZID:Europe/Vienna
BEGIN:VEVENT
DTSTAMP:20230920T210105Z
DTSTART;TZID=Europe/Vienna:20230921T124500
DTEND;TZID=Europe/Vienna:20230921T134500
SUMMARY:Mit dem iPhone Fotos machen(Global.Language.de-at)
UID:http://www.apple.com/at/retail/kaerntnerstrasse/1695293100000
URL:http://www.apple.com/at/retail/kaerntnerstrasse/
LOCATION:Apple Kärntner Straße\nKärntner Straße 11\, Wien\, Vienna\, 1010
 
GEO:48.206908;16.371731
X-APPLE-STRUCTURED-LOCATION;VALUE=URI;X-TITLE="Apple Kärntner Straße\nKär
 ntner Straße 11, Wien, Vienna, 1010":geo:48.206908,16.371731
DESCRIPTION:
END:VEVENT
END:VCALENDAR
